Package: RCX Version: 1.13.0 Command: chmod a+r RCX -R && F:\biocbuild\bbs-3.22-bioc\R\bin\R.exe CMD build --keep-empty-dirs --no-resave-data RCX StartedAt: 2025-07-14 21:31:28 -0400 (Mon, 14 Jul 2025) EndedAt: 2025-07-14 21:33:18 -0400 (Mon, 14 Jul 2025) EllapsedTime: 109.7 seconds RetCode: 0 Status: OK PackageFile: RCX_1.13.0.tar.gz PackageFileSize: 4.575 MiB