Package: RCSL Version: 1.17.0 Command: /home/biocbuild/bbs-3.22-bioc/R/bin/R CMD build --keep-empty-dirs --no-resave-data --md5 RCSL StartedAt: 2025-07-01 18:46:31 -0400 (Tue, 01 Jul 2025) EndedAt: 2025-07-01 18:46:58 -0400 (Tue, 01 Jul 2025) EllapsedTime: 27.0 seconds RetCode: 0 Status: OK PackageFile: RCSL_1.17.0.tar.gz PackageFileSize: 1.954 MiB