Package: RCSL Version: 1.17.0 Command: rm -rf RCSL.buildbin-libdir && mkdir RCSL.buildbin-libdir && /Users/biocbuild/BBS/utils/build-universal.sh RCSL_1.17.0.tar.gz /Library/Frameworks/R.framework/Resources/bin/R RCSL.buildbin-libdir StartedAt: 2025-10-06 02:19:00 -0400 (Mon, 06 Oct 2025) EndedAt: 2025-10-06 02:19:17 -0400 (Mon, 06 Oct 2025) EllapsedTime: 17.0 seconds RetCode: 0 Status: OK PackageFile: RCSL_1.17.0.tgz PackageFileSize: 3.035 MiB