Package: RCM Version: 1.25.0 Command: /home/biocbuild/R/R/bin/R CMD INSTALL RCM StartedAt: 2025-07-24 21:18:39 -0000 (Thu, 24 Jul 2025) EndedAt: 2025-07-24 21:19:10 -0000 (Thu, 24 Jul 2025) EllapsedTime: 30.7 seconds RetCode: 0 Status: OK