Package: RCM Version: 1.25.0 Command: /home/biocbuild/R/R/bin/R CMD build --keep-empty-dirs --no-resave-data RCM StartedAt: 2025-07-25 03:06:23 -0000 (Fri, 25 Jul 2025) EndedAt: 2025-07-25 03:07:40 -0000 (Fri, 25 Jul 2025) EllapsedTime: 77.1 seconds RetCode: 0 Status: OK PackageFile: RCM_1.25.0.tar.gz PackageFileSize: 3.134 MiB