Package: RCM Version: 1.25.0 Command: rm -rf RCM.buildbin-libdir && mkdir RCM.buildbin-libdir && F:\biocbuild\bbs-3.22-bioc\R\bin\R.exe CMD INSTALL --build --library=RCM.buildbin-libdir RCM_1.25.0.tar.gz StartedAt: 2025-07-14 09:45:01 -0400 (Mon, 14 Jul 2025) EndedAt: 2025-07-14 09:45:55 -0400 (Mon, 14 Jul 2025) EllapsedTime: 54.7 seconds RetCode: 0 Status: OK PackageFile: RCM_1.25.0.zip PackageFileSize: 3.399 MiB