Package: RCASPAR Version: 1.55.0 Command: /Library/Frameworks/R.framework/Resources/bin/R CMD check --install=check:RCASPAR.install-out.txt --library=/Library/Frameworks/R.framework/Resources/library --no-vignettes --timings RCASPAR_1.55.0.tar.gz StartedAt: 2025-07-18 22:52:32 -0400 (Fri, 18 Jul 2025) EndedAt: 2025-07-18 22:53:05 -0400 (Fri, 18 Jul 2025) EllapsedTime: 32.9 seconds RetCode: 0 Status: OK CheckDir: RCASPAR.Rcheck Warnings: 0