Package: RCASPAR Version: 1.55.0 Command: /Library/Frameworks/R.framework/Resources/bin/R CMD build --keep-empty-dirs --no-resave-data RCASPAR StartedAt: 2025-07-17 18:04:51 -0400 (Thu, 17 Jul 2025) EndedAt: 2025-07-17 18:05:01 -0400 (Thu, 17 Jul 2025) EllapsedTime: 10.3 seconds RetCode: 0 Status: OK PackageFile: RCASPAR_1.55.0.tar.gz PackageFileSize: 304.3 KiB