Package: RCASPAR Version: 1.55.0 Command: /Library/Frameworks/R.framework/Resources/bin/R CMD build --keep-empty-dirs --no-resave-data RCASPAR StartedAt: 2025-07-11 17:18:41 -0400 (Fri, 11 Jul 2025) EndedAt: 2025-07-11 17:18:46 -0400 (Fri, 11 Jul 2025) EllapsedTime: 4.0 seconds RetCode: 0 Status: OK PackageFile: RCASPAR_1.55.0.tar.gz PackageFileSize: 305 KiB