Package: RBM Version: 1.41.0 Command: F:\biocbuild\bbs-3.22-bioc\R\bin\R.exe CMD check --no-multiarch --install=check:RBM.install-out.txt --library=F:\biocbuild\bbs-3.22-bioc\R\library --no-vignettes --timings RBM_1.41.0.tar.gz StartedAt: 2025-07-02 05:29:30 -0400 (Wed, 02 Jul 2025) EndedAt: 2025-07-02 05:30:32 -0400 (Wed, 02 Jul 2025) EllapsedTime: 62.2 seconds RetCode: 0 Status: OK CheckDir: RBM.Rcheck Warnings: 0