Package: RBM Version: 1.41.0 Command: /Library/Frameworks/R.framework/Resources/bin/R CMD INSTALL RBM StartedAt: 2025-07-21 15:06:03 -0400 (Mon, 21 Jul 2025) EndedAt: 2025-07-21 15:06:31 -0400 (Mon, 21 Jul 2025) EllapsedTime: 28.2 seconds RetCode: 0 Status: OK