Package: RBM Version: 1.41.0 Command: /Library/Frameworks/R.framework/Resources/bin/R CMD check --install=check:RBM.install-out.txt --library=/Library/Frameworks/R.framework/Resources/library --no-vignettes --timings RBM_1.41.0.tar.gz StartedAt: 2025-07-21 23:01:01 -0400 (Mon, 21 Jul 2025) EndedAt: 2025-07-21 23:01:57 -0400 (Mon, 21 Jul 2025) EllapsedTime: 55.7 seconds RetCode: 0 Status: OK CheckDir: RBM.Rcheck Warnings: 0