Package: RBM Version: 1.41.0 Command: /Library/Frameworks/R.framework/Resources/bin/R CMD build --keep-empty-dirs --no-resave-data RBM StartedAt: 2025-07-21 18:03:15 -0400 (Mon, 21 Jul 2025) EndedAt: 2025-07-21 18:03:52 -0400 (Mon, 21 Jul 2025) EllapsedTime: 36.6 seconds RetCode: 0 Status: OK PackageFile: RBM_1.41.0.tar.gz PackageFileSize: 371.6 KiB