Package: RBM Version: 1.41.0 Command: /Library/Frameworks/R.framework/Resources/bin/R CMD INSTALL RBM StartedAt: 2025-07-14 15:02:13 -0400 (Mon, 14 Jul 2025) EndedAt: 2025-07-14 15:02:20 -0400 (Mon, 14 Jul 2025) EllapsedTime: 6.9 seconds RetCode: 0 Status: OK