Package: RBM Version: 1.41.0 Command: /Library/Frameworks/R.framework/Resources/bin/R CMD build --keep-empty-dirs --no-resave-data RBM StartedAt: 2025-07-14 17:18:56 -0400 (Mon, 14 Jul 2025) EndedAt: 2025-07-14 17:19:09 -0400 (Mon, 14 Jul 2025) EllapsedTime: 13.2 seconds RetCode: 0 Status: OK PackageFile: RBM_1.41.0.tar.gz PackageFileSize: 371.9 KiB