Package: RBM Version: 1.41.0 Command: rm -rf RBM.buildbin-libdir && mkdir RBM.buildbin-libdir && /Users/biocbuild/BBS/utils/build-universal.sh RBM_1.41.0.tar.gz /Library/Frameworks/R.framework/Resources/bin/R RBM.buildbin-libdir StartedAt: 2025-07-14 22:30:53 -0400 (Mon, 14 Jul 2025) EndedAt: 2025-07-14 22:30:55 -0400 (Mon, 14 Jul 2025) EllapsedTime: 2.0 seconds RetCode: 0 Status: OK PackageFile: RBM_1.41.0.tgz PackageFileSize: 395.7 KiB