Package: RBGL Version: 1.85.0 Command: /home/biocbuild/bbs-3.22-bioc/R/bin/R CMD INSTALL RBGL StartedAt: 2025-10-10 15:24:21 -0400 (Fri, 10 Oct 2025) EndedAt: 2025-10-10 15:26:08 -0400 (Fri, 10 Oct 2025) EllapsedTime: 106.3 seconds RetCode: 0 Status: OK