Package: R4RNA Version: 1.37.0 Command: /home/biocbuild/R/R/bin/R CMD INSTALL R4RNA StartedAt: 2025-06-26 20:45:53 -0000 (Thu, 26 Jun 2025) EndedAt: 2025-06-26 20:46:07 -0000 (Thu, 26 Jun 2025) EllapsedTime: 13.4 seconds RetCode: 0 Status: OK