Package: R4RNA Version: 1.37.0 Command: /home/biocbuild/R/R/bin/R CMD check --install=check:R4RNA.install-out.txt --library=/home/biocbuild/R/R/site-library --no-vignettes --timings R4RNA_1.37.0.tar.gz StartedAt: 2025-06-27 10:29:45 -0000 (Fri, 27 Jun 2025) EndedAt: 2025-06-27 10:31:10 -0000 (Fri, 27 Jun 2025) EllapsedTime: 85.1 seconds RetCode: 0 Status: OK CheckDir: R4RNA.Rcheck Warnings: 0