Package: R4RNA Version: 1.37.0 Command: /home/biocbuild/R/R/bin/R CMD build --keep-empty-dirs --no-resave-data R4RNA StartedAt: 2025-06-27 01:53:09 -0000 (Fri, 27 Jun 2025) EndedAt: 2025-06-27 01:53:30 -0000 (Fri, 27 Jun 2025) EllapsedTime: 21.0 seconds RetCode: 0 Status: OK PackageFile: R4RNA_1.37.0.tar.gz PackageFileSize: 898.9 KiB