Package: R4RNA Version: 1.37.0 Command: /home/biocbuild/bbs-3.22-bioc/R/bin/R CMD INSTALL R4RNA StartedAt: 2025-07-04 15:27:55 -0400 (Fri, 04 Jul 2025) EndedAt: 2025-07-04 15:28:05 -0400 (Fri, 04 Jul 2025) EllapsedTime: 10.0 seconds RetCode: 0 Status: OK