Package: R4RNA Version: 1.37.0 Command: /home/biocbuild/bbs-3.22-bioc/R/bin/R CMD build --keep-empty-dirs --no-resave-data --md5 R4RNA StartedAt: 2025-07-04 18:39:44 -0400 (Fri, 04 Jul 2025) EndedAt: 2025-07-04 18:40:01 -0400 (Fri, 04 Jul 2025) EllapsedTime: 17.0 seconds RetCode: 0 Status: OK PackageFile: R4RNA_1.37.0.tar.gz PackageFileSize: 907.1 KiB