Package: R4RNA Version: 1.37.0 Command: /Library/Frameworks/R.framework/Resources/bin/R CMD INSTALL R4RNA StartedAt: 2025-07-01 15:38:50 -0400 (Tue, 01 Jul 2025) EndedAt: 2025-07-01 15:39:05 -0400 (Tue, 01 Jul 2025) EllapsedTime: 14.6 seconds RetCode: 0 Status: OK