Package: R4RNA Version: 1.37.0 Command: /Library/Frameworks/R.framework/Resources/bin/R CMD build --keep-empty-dirs --no-resave-data R4RNA StartedAt: 2025-07-01 18:12:16 -0400 (Tue, 01 Jul 2025) EndedAt: 2025-07-01 18:12:39 -0400 (Tue, 01 Jul 2025) EllapsedTime: 23.0 seconds RetCode: 0 Status: OK PackageFile: R4RNA_1.37.0.tar.gz PackageFileSize: 902.8 KiB