Package: R3CPET Version: 1.41.0 Command: F:\biocbuild\bbs-3.22-bioc\R\bin\R.exe CMD INSTALL R3CPET StartedAt: 2025-07-14 16:51:02 -0400 (Mon, 14 Jul 2025) EndedAt: 2025-07-14 16:53:03 -0400 (Mon, 14 Jul 2025) EllapsedTime: 120.9 seconds RetCode: 0 Status: OK