Package: R3CPET Version: 1.41.0 Command: chmod a+r R3CPET -R && F:\biocbuild\bbs-3.22-bioc\R\bin\R.exe CMD build --keep-empty-dirs --no-resave-data R3CPET StartedAt: 2025-07-14 21:25:32 -0400 (Mon, 14 Jul 2025) EndedAt: 2025-07-14 21:29:34 -0400 (Mon, 14 Jul 2025) EllapsedTime: 241.6 seconds RetCode: 0 Status: OK PackageFile: R3CPET_1.41.0.tar.gz PackageFileSize: 5.084 MiB