Package: Qtlizer Version: 1.23.0 Command: F:\biocbuild\bbs-3.22-bioc\R\bin\R.exe CMD check --no-multiarch --install=check:Qtlizer.install-out.txt --library=F:\biocbuild\bbs-3.22-bioc\R\library --no-vignettes --timings Qtlizer_1.23.0.tar.gz StartedAt: 2025-07-02 05:22:59 -0400 (Wed, 02 Jul 2025) EndedAt: 2025-07-02 05:23:32 -0400 (Wed, 02 Jul 2025) EllapsedTime: 33.2 seconds RetCode: 0 Status: OK CheckDir: Qtlizer.Rcheck Warnings: 0