Package: QUBIC Version: 1.37.0 Command: /home/biocbuild/R/R/bin/R CMD build --keep-empty-dirs --no-resave-data QUBIC StartedAt: 2025-07-25 03:01:29 -0000 (Fri, 25 Jul 2025) EndedAt: 2025-07-25 03:03:30 -0000 (Fri, 25 Jul 2025) EllapsedTime: 121.1 seconds RetCode: 0 Status: OK PackageFile: QUBIC_1.37.0.tar.gz PackageFileSize: 488.1 KiB