Package: QUBIC Version: 1.37.0 Command: F:\biocbuild\bbs-3.22-bioc\R\bin\R.exe CMD check --no-multiarch --install=check:QUBIC.install-out.txt --library=F:\biocbuild\bbs-3.22-bioc\R\library --no-vignettes --timings QUBIC_1.37.0.tar.gz StartedAt: 2025-07-02 05:24:32 -0400 (Wed, 02 Jul 2025) EndedAt: 2025-07-02 05:26:02 -0400 (Wed, 02 Jul 2025) EllapsedTime: 89.7 seconds RetCode: 0 Status: OK CheckDir: QUBIC.Rcheck Warnings: 0