Package: QUBIC Version: 1.37.0 Command: /Library/Frameworks/R.framework/Resources/bin/R CMD INSTALL QUBIC StartedAt: 2025-07-14 15:06:17 -0400 (Mon, 14 Jul 2025) EndedAt: 2025-07-14 15:06:30 -0400 (Mon, 14 Jul 2025) EllapsedTime: 12.5 seconds RetCode: 0 Status: OK