Package: QUBIC Version: 1.37.0 Command: /Library/Frameworks/R.framework/Resources/bin/R CMD build --keep-empty-dirs --no-resave-data QUBIC StartedAt: 2025-07-14 17:17:29 -0400 (Mon, 14 Jul 2025) EndedAt: 2025-07-14 17:18:12 -0400 (Mon, 14 Jul 2025) EllapsedTime: 42.5 seconds RetCode: 0 Status: OK PackageFile: QUBIC_1.37.0.tar.gz PackageFileSize: 493.7 KiB