Package: QUBIC Version: 1.37.0 Command: rm -rf QUBIC.buildbin-libdir && mkdir QUBIC.buildbin-libdir && /Users/biocbuild/BBS/utils/build-universal.sh QUBIC_1.37.0.tar.gz /Library/Frameworks/R.framework/Resources/bin/R QUBIC.buildbin-libdir StartedAt: 2025-07-15 22:32:20 -0400 (Tue, 15 Jul 2025) EndedAt: 2025-07-15 22:32:30 -0400 (Tue, 15 Jul 2025) EllapsedTime: 10.2 seconds RetCode: 0 Status: OK PackageFile: QUBIC_1.37.0.tgz PackageFileSize: 620.1 KiB