Package: QTLExperiment Version: 2.1.1 Command: /home/biocbuild/R/R/bin/R CMD check --install=check:QTLExperiment.install-out.txt --library=/home/biocbuild/R/R/site-library --no-vignettes --timings QTLExperiment_2.1.1.tar.gz StartedAt: 2025-10-03 10:31:08 -0000 (Fri, 03 Oct 2025) EndedAt: 2025-10-03 10:35:08 -0000 (Fri, 03 Oct 2025) EllapsedTime: 240.3 seconds RetCode: 0 Status: OK CheckDir: QTLExperiment.Rcheck Warnings: 0