Package: QTLExperiment Version: 2.1.1 Command: /home/biocbuild/bbs-3.22-bioc/R/bin/R CMD INSTALL QTLExperiment StartedAt: 2025-07-15 15:22:41 -0400 (Tue, 15 Jul 2025) EndedAt: 2025-07-15 15:23:07 -0400 (Tue, 15 Jul 2025) EllapsedTime: 25.9 seconds RetCode: 0 Status: OK