Package: QTLExperiment Version: 2.1.1 Command: /Library/Frameworks/R.framework/Resources/bin/R CMD INSTALL QTLExperiment StartedAt: 2025-07-15 15:35:11 -0400 (Tue, 15 Jul 2025) EndedAt: 2025-07-15 15:35:47 -0400 (Tue, 15 Jul 2025) EllapsedTime: 36.2 seconds RetCode: 0 Status: OK