Package: QTLExperiment Version: 2.1.1 Command: /Library/Frameworks/R.framework/Resources/bin/R CMD check --install=check:QTLExperiment.install-out.txt --library=/Library/Frameworks/R.framework/Resources/library --no-vignettes --timings QTLExperiment_2.1.1.tar.gz StartedAt: 2025-07-14 22:55:57 -0400 (Mon, 14 Jul 2025) EndedAt: 2025-07-14 22:59:27 -0400 (Mon, 14 Jul 2025) EllapsedTime: 210.0 seconds RetCode: 0 Status: OK CheckDir: QTLExperiment.Rcheck Warnings: 0