Package: QTLExperiment Version: 2.1.1 Command: /Library/Frameworks/R.framework/Resources/bin/R CMD build --keep-empty-dirs --no-resave-data QTLExperiment StartedAt: 2025-07-14 18:09:43 -0400 (Mon, 14 Jul 2025) EndedAt: 2025-07-14 18:10:28 -0400 (Mon, 14 Jul 2025) EllapsedTime: 44.6 seconds RetCode: 0 Status: OK PackageFile: QTLExperiment_2.1.1.tar.gz PackageFileSize: 612.8 KiB