Package: QTLExperiment Version: 2.1.1 Command: /Library/Frameworks/R.framework/Resources/bin/R CMD INSTALL QTLExperiment StartedAt: 2025-10-05 15:15:28 -0400 (Sun, 05 Oct 2025) EndedAt: 2025-10-05 15:15:39 -0400 (Sun, 05 Oct 2025) EllapsedTime: 10.6 seconds RetCode: 0 Status: OK