Package: QTLExperiment Version: 2.1.1 Command: rm -rf QTLExperiment.buildbin-libdir && mkdir QTLExperiment.buildbin-libdir && /Users/biocbuild/BBS/utils/build-universal.sh QTLExperiment_2.1.1.tar.gz /Library/Frameworks/R.framework/Resources/bin/R QTLExperiment.buildbin-libdir StartedAt: 2025-10-05 22:54:58 -0400 (Sun, 05 Oct 2025) EndedAt: 2025-10-05 22:55:10 -0400 (Sun, 05 Oct 2025) EllapsedTime: 12.2 seconds RetCode: 0 Status: OK PackageFile: QTLExperiment_2.1.1.tgz PackageFileSize: 1.141 MiB