Package: QSutils Version: 1.27.0 Command: chmod a+r QSutils -R && F:\biocbuild\bbs-3.22-bioc\R\bin\R.exe CMD build --keep-empty-dirs --no-resave-data QSutils StartedAt: 2025-08-14 22:32:22 -0400 (Thu, 14 Aug 2025) EndedAt: 2025-08-14 22:35:36 -0400 (Thu, 14 Aug 2025) EllapsedTime: 194.3 seconds RetCode: 0 Status: OK PackageFile: QSutils_1.27.0.tar.gz PackageFileSize: 1.101 MiB