Package: QSutils Version: 1.27.0 Command: rm -rf QSutils.buildbin-libdir && mkdir QSutils.buildbin-libdir && F:\biocbuild\bbs-3.22-bioc\R\bin\R.exe CMD INSTALL --build --library=QSutils.buildbin-libdir QSutils_1.27.0.tar.gz StartedAt: 2025-08-15 11:01:46 -0400 (Fri, 15 Aug 2025) EndedAt: 2025-08-15 11:02:24 -0400 (Fri, 15 Aug 2025) EllapsedTime: 38.6 seconds RetCode: 0 Status: OK PackageFile: QSutils_1.27.0.zip PackageFileSize: 1.221 MiB