Package: QFeatures Version: 1.19.2 Command: F:\biocbuild\bbs-3.22-bioc\R\bin\R.exe CMD check --no-multiarch --install=check:QFeatures.install-out.txt --library=F:\biocbuild\bbs-3.22-bioc\R\library --no-vignettes --timings QFeatures_1.19.2.tar.gz StartedAt: 2025-07-18 05:23:29 -0400 (Fri, 18 Jul 2025) EndedAt: 2025-07-18 05:35:04 -0400 (Fri, 18 Jul 2025) EllapsedTime: 694.6 seconds RetCode: 0 Status: OK CheckDir: QFeatures.Rcheck Warnings: 0