############################################################################## ############################################################################## ### ### Running command: ### ### chmod a+r QFeatures -R && F:\biocbuild\bbs-3.22-bioc\R\bin\R.exe CMD build --keep-empty-dirs --no-resave-data QFeatures ### ############################################################################## ############################################################################## * checking for file 'QFeatures/DESCRIPTION' ... OK * preparing 'QFeatures': * checking DESCRIPTION meta-information ... OK * installing the package to build vignettes * creating vignettes ... OK * checking for LF line-endings in source and make files and shell scripts * checking for empty or unneeded directories WARNING: directory 'QFeatures/man/figures' is empty * looking to see if a 'data/datalist' file should be added * building 'QFeatures_1.19.2.tar.gz'