Package: QFeatures Version: 1.19.2 Command: rm -rf QFeatures.buildbin-libdir && mkdir QFeatures.buildbin-libdir && F:\biocbuild\bbs-3.22-bioc\R\bin\R.exe CMD INSTALL --build --library=QFeatures.buildbin-libdir QFeatures_1.19.2.tar.gz StartedAt: 2025-07-17 09:42:12 -0400 (Thu, 17 Jul 2025) EndedAt: 2025-07-17 09:43:27 -0400 (Thu, 17 Jul 2025) EllapsedTime: 74.9 seconds RetCode: 0 Status: OK PackageFile: QFeatures_1.19.2.zip PackageFileSize: 4.191 MiB