Package: QDNAseq Version: 1.45.0 Command: F:\biocbuild\bbs-3.22-bioc\R\bin\R.exe CMD INSTALL QDNAseq StartedAt: 2025-07-20 15:40:57 -0400 (Sun, 20 Jul 2025) EndedAt: 2025-07-20 15:41:54 -0400 (Sun, 20 Jul 2025) EllapsedTime: 57.6 seconds RetCode: 0 Status: OK