Package: QDNAseq Version: 1.45.0 Command: F:\biocbuild\bbs-3.22-bioc\R\bin\R.exe CMD check --no-multiarch --install=check:QDNAseq.install-out.txt --library=F:\biocbuild\bbs-3.22-bioc\R\library --no-vignettes --timings QDNAseq_1.45.0.tar.gz StartedAt: 2025-07-22 05:34:32 -0400 (Tue, 22 Jul 2025) EndedAt: 2025-07-22 05:43:26 -0400 (Tue, 22 Jul 2025) EllapsedTime: 533.8 seconds RetCode: 0 Status: WARNINGS CheckDir: QDNAseq.Rcheck Warnings: 1