Package: QDNAseq Version: 1.45.0 Command: chmod a+r QDNAseq -R && F:\biocbuild\bbs-3.22-bioc\R\bin\R.exe CMD build --keep-empty-dirs --no-resave-data QDNAseq StartedAt: 2025-07-20 21:20:53 -0400 (Sun, 20 Jul 2025) EndedAt: 2025-07-20 21:27:27 -0400 (Sun, 20 Jul 2025) EllapsedTime: 394.2 seconds RetCode: 0 Status: OK PackageFile: QDNAseq_1.45.0.tar.gz PackageFileSize: 848 KiB