Package: QDNAseq Version: 1.45.0 Command: rm -rf QDNAseq.buildbin-libdir && mkdir QDNAseq.buildbin-libdir && F:\biocbuild\bbs-3.22-bioc\R\bin\R.exe CMD INSTALL --build --library=QDNAseq.buildbin-libdir QDNAseq_1.45.0.tar.gz StartedAt: 2025-07-21 09:45:56 -0400 (Mon, 21 Jul 2025) EndedAt: 2025-07-21 09:47:02 -0400 (Mon, 21 Jul 2025) EllapsedTime: 66.2 seconds RetCode: 0 Status: OK PackageFile: QDNAseq_1.45.0.zip PackageFileSize: 1.394 MiB