Package: QDNAseq Version: 1.45.0 Command: /Library/Frameworks/R.framework/Resources/bin/R CMD INSTALL QDNAseq StartedAt: 2025-07-01 15:30:36 -0400 (Tue, 01 Jul 2025) EndedAt: 2025-07-01 15:31:03 -0400 (Tue, 01 Jul 2025) EllapsedTime: 26.8 seconds RetCode: 0 Status: OK