Package: QDNAseq Version: 1.45.0 Command: /Library/Frameworks/R.framework/Resources/bin/R CMD check --install=check:QDNAseq.install-out.txt --library=/Library/Frameworks/R.framework/Resources/library --no-vignettes --timings QDNAseq_1.45.0.tar.gz StartedAt: 2025-07-01 22:54:52 -0400 (Tue, 01 Jul 2025) EndedAt: 2025-07-01 23:02:10 -0400 (Tue, 01 Jul 2025) EllapsedTime: 438.3 seconds RetCode: 0 Status: WARNINGS CheckDir: QDNAseq.Rcheck Warnings: 1